BEGIN:VCALENDAR
VERSION:2.0
PRODID:-//South Carolina Music Educators Association - ECPv6.15.18//NONSGML v1.0//EN
CALSCALE:GREGORIAN
METHOD:PUBLISH
X-WR-CALNAME:South Carolina Music Educators Association
X-ORIGINAL-URL:https://www.scmea.net
X-WR-CALDESC:Events for South Carolina Music Educators Association
REFRESH-INTERVAL;VALUE=DURATION:PT1H
X-Robots-Tag:noindex
X-PUBLISHED-TTL:PT1H
BEGIN:VTIMEZONE
TZID:America/New_York
BEGIN:DAYLIGHT
TZOFFSETFROM:-0500
TZOFFSETTO:-0400
TZNAME:EDT
DTSTART:20200308T070000
END:DAYLIGHT
BEGIN:STANDARD
TZOFFSETFROM:-0400
TZOFFSETTO:-0500
TZNAME:EST
DTSTART:20201101T060000
END:STANDARD
BEGIN:DAYLIGHT
TZOFFSETFROM:-0500
TZOFFSETTO:-0400
TZNAME:EDT
DTSTART:20210314T070000
END:DAYLIGHT
BEGIN:STANDARD
TZOFFSETFROM:-0400
TZOFFSETTO:-0500
TZNAME:EST
DTSTART:20211107T060000
END:STANDARD
BEGIN:DAYLIGHT
TZOFFSETFROM:-0500
TZOFFSETTO:-0400
TZNAME:EDT
DTSTART:20220313T070000
END:DAYLIGHT
BEGIN:STANDARD
TZOFFSETFROM:-0400
TZOFFSETTO:-0500
TZNAME:EST
DTSTART:20221106T060000
END:STANDARD
BEGIN:DAYLIGHT
TZOFFSETFROM:-0500
TZOFFSETTO:-0400
TZNAME:EDT
DTSTART:20230312T070000
END:DAYLIGHT
BEGIN:STANDARD
TZOFFSETFROM:-0400
TZOFFSETTO:-0500
TZNAME:EST
DTSTART:20231105T060000
END:STANDARD
BEGIN:DAYLIGHT
TZOFFSETFROM:-0500
TZOFFSETTO:-0400
TZNAME:EDT
DTSTART:20240310T070000
END:DAYLIGHT
BEGIN:STANDARD
TZOFFSETFROM:-0400
TZOFFSETTO:-0500
TZNAME:EST
DTSTART:20241103T060000
END:STANDARD
END:VTIMEZONE
BEGIN:VEVENT
DTSTART;VALUE=DATE:20230201
DTEND;VALUE=DATE:20230202
DTSTAMP:20260423T044232
CREATED:20220517T015416Z
LAST-MODIFIED:20220517T021058Z
UID:8871-1675209600-1675295999@www.scmea.net
SUMMARY:Deadline: All-State Orchestra Registration
DESCRIPTION:
URL:https://www.scmea.net/event/deadline-all-state-orchestra-registration-2/
CATEGORIES:Deadline,Orchestra
END:VEVENT
BEGIN:VEVENT
DTSTART;VALUE=DATE:20230115
DTEND;VALUE=DATE:20230116
DTSTAMP:20260423T044232
CREATED:20220517T015240Z
LAST-MODIFIED:20220517T021023Z
UID:8867-1673740800-1673827199@www.scmea.net
SUMMARY:Deadline: Orchestra CPA Registration
DESCRIPTION:
URL:https://www.scmea.net/event/deadline-orchestra-cpa-registration-2/
CATEGORIES:Deadline,Orchestra
END:VEVENT
BEGIN:VEVENT
DTSTART;VALUE=DATE:20230113
DTEND;VALUE=DATE:20230114
DTSTAMP:20260423T044232
CREATED:20220517T015158Z
LAST-MODIFIED:20220517T020956Z
UID:8865-1673568000-1673654399@www.scmea.net
SUMMARY:Deadline: JPA\, CPA\, Supplemental List
DESCRIPTION:
URL:https://www.scmea.net/event/deadline-jpa-cpa-supplemental-list-2/
CATEGORIES:Band,Deadline
END:VEVENT
BEGIN:VEVENT
DTSTART;VALUE=DATE:20221215
DTEND;VALUE=DATE:20221216
DTSTAMP:20260423T044232
CREATED:20220517T015023Z
LAST-MODIFIED:20220517T015023Z
UID:8859-1671062400-1671148799@www.scmea.net
SUMMARY:Deadline: All-State Orchestra Audition Registration
DESCRIPTION:
URL:https://www.scmea.net/event/deadline-all-state-orchestra-audition-registration/
CATEGORIES:Deadline,Orchestra
END:VEVENT
BEGIN:VEVENT
DTSTART;VALUE=DATE:20221210
DTEND;VALUE=DATE:20221211
DTSTAMP:20260423T044232
CREATED:20220517T014933Z
LAST-MODIFIED:20220517T014933Z
UID:8857-1670630400-1670716799@www.scmea.net
SUMMARY:Deadline: SC Elementary Honors Choir Registration
DESCRIPTION:
URL:https://www.scmea.net/event/deadline-sc-elementary-honors-choir-registration-2/
CATEGORIES:Deadline,Elementary
END:VEVENT
BEGIN:VEVENT
DTSTART;VALUE=DATE:20221202
DTEND;VALUE=DATE:20221203
DTSTAMP:20260423T044232
CREATED:20220517T014851Z
LAST-MODIFIED:20220517T020826Z
UID:8855-1669939200-1670025599@www.scmea.net
SUMMARY:Deadline: Jazz Honors Combo Submission
DESCRIPTION:
URL:https://www.scmea.net/event/deadline-jazz-honors-combo-submission/
CATEGORIES:Band,Deadline
END:VEVENT
BEGIN:VEVENT
DTSTART;VALUE=DATE:20221202
DTEND;VALUE=DATE:20221203
DTSTAMP:20260423T044232
CREATED:20220517T014819Z
LAST-MODIFIED:20220517T020805Z
UID:8853-1669939200-1670025599@www.scmea.net
SUMMARY:Deadline: SCBDA HoF\, DSA\, and PoN
DESCRIPTION:
URL:https://www.scmea.net/event/deadline-scbda-hof-dsa-and-pon/
CATEGORIES:Band,Deadline
END:VEVENT
BEGIN:VEVENT
DTSTART;VALUE=DATE:20221201
DTEND;VALUE=DATE:20221202
DTSTAMP:20260423T044232
CREATED:20220517T014748Z
LAST-MODIFIED:20220517T020740Z
UID:8851-1669852800-1669939199@www.scmea.net
SUMMARY:Deadline: SCMEA Award Nominations
DESCRIPTION:
URL:https://www.scmea.net/event/deadline-scmea-award-nominations/
CATEGORIES:Deadline
END:VEVENT
BEGIN:VEVENT
DTSTART;VALUE=DATE:20221111
DTEND;VALUE=DATE:20221112
DTSTAMP:20260423T044232
CREATED:20220517T014234Z
LAST-MODIFIED:20220517T014234Z
UID:8837-1668124800-1668211199@www.scmea.net
SUMMARY:Deadline: Region Band\, All-State Jazz\, Master Recital
DESCRIPTION:
URL:https://www.scmea.net/event/deadline-region-band-all-state-jazz-master-recital/
CATEGORIES:Band,Deadline
END:VEVENT
BEGIN:VEVENT
DTSTART;VALUE=DATE:20221101
DTEND;VALUE=DATE:20221102
DTSTAMP:20260423T044232
CREATED:20220517T014035Z
LAST-MODIFIED:20220517T020609Z
UID:8830-1667260800-1667347199@www.scmea.net
SUMMARY:Deadline: Orchestra CPA Composition
DESCRIPTION:
URL:https://www.scmea.net/event/orchestra-cpa-composition-deadline/
CATEGORIES:Deadline,Orchestra
END:VEVENT
BEGIN:VEVENT
DTSTART;VALUE=DATE:20221008
DTEND;VALUE=DATE:20221009
DTSTAMP:20260423T044232
CREATED:20220517T013623Z
LAST-MODIFIED:20220920T143631Z
UID:8819-1665187200-1665273599@www.scmea.net
SUMMARY:Deadline: Elementary Honors Choir Auditions and Forms
DESCRIPTION:
URL:https://www.scmea.net/event/elementary-honors-choir-audition-upload-deadline/
CATEGORIES:Deadline,Elementary
END:VEVENT
BEGIN:VEVENT
DTSTART;VALUE=DATE:20221001
DTEND;VALUE=DATE:20221002
DTSTAMP:20260423T044232
CREATED:20220517T013155Z
LAST-MODIFIED:20220517T013155Z
UID:8811-1664582400-1664668799@www.scmea.net
SUMMARY:Deadline: Fall Piano Festival Registration
DESCRIPTION:
URL:https://www.scmea.net/event/deadline-fall-piano-festival-registration-2/
CATEGORIES:Deadline,Piano
END:VEVENT
BEGIN:VEVENT
DTSTART;VALUE=DATE:20221001
DTEND;VALUE=DATE:20221002
DTSTAMP:20260423T044232
CREATED:20220517T013107Z
LAST-MODIFIED:20220517T013107Z
UID:8809-1664582400-1664668799@www.scmea.net
SUMMARY:Deadline: South Carolina Musician Winter Issue
DESCRIPTION:
URL:https://www.scmea.net/event/deadline-south-carolina-musician-winter-issue/
CATEGORIES:Deadline,SC Musician
END:VEVENT
BEGIN:VEVENT
DTSTART;TZID=America/New_York:20220915T080000
DTEND;TZID=America/New_York:20220915T170000
DTSTAMP:20260423T044232
CREATED:20220517T013027Z
LAST-MODIFIED:20220517T013027Z
UID:8807-1663228800-1663261200@www.scmea.net
SUMMARY:Deadline: Orchestra Region Audition Registration
DESCRIPTION:
URL:https://www.scmea.net/event/deadline-orchestra-region-audition-registration/
CATEGORIES:Deadline,Orchestra
END:VEVENT
BEGIN:VEVENT
DTSTART;VALUE=DATE:20220826
DTEND;VALUE=DATE:20220827
DTSTAMP:20260423T044232
CREATED:20220826T164633Z
LAST-MODIFIED:20220826T164633Z
UID:9133-1661472000-1661558399@www.scmea.net
SUMMARY:Deadline: SCEHC Registration
DESCRIPTION:
URL:https://www.scmea.net/event/deadline-scehc-registration/
CATEGORIES:Deadline,Elementary
END:VEVENT
BEGIN:VEVENT
DTSTART;VALUE=DATE:20220826
DTEND;VALUE=DATE:20220827
DTSTAMP:20260423T044232
CREATED:20220517T015751Z
LAST-MODIFIED:20220517T020350Z
UID:8878-1661472000-1661558399@www.scmea.net
SUMMARY:Deadline: All-State Band Clinic Registration & Winter Ensemble Championships
DESCRIPTION:
URL:https://www.scmea.net/event/deadline-all-state-band-clinic-registration-winter-ensemble-championships/
CATEGORIES:Deadline
END:VEVENT
BEGIN:VEVENT
DTSTART;VALUE=DATE:20220826
DTEND;VALUE=DATE:20220827
DTSTAMP:20260423T044232
CREATED:20220517T012304Z
LAST-MODIFIED:20220517T012304Z
UID:8789-1661472000-1661558399@www.scmea.net
SUMMARY:Deadline: Winter Ensemble Championship Host Application
DESCRIPTION:
URL:https://www.scmea.net/event/deadline-winter-ensemble-championship-host-application/
CATEGORIES:Band,Deadline
END:VEVENT
BEGIN:VEVENT
DTSTART;VALUE=DATE:20220812
DTEND;VALUE=DATE:20220813
DTSTAMP:20260423T044232
CREATED:20220517T011911Z
LAST-MODIFIED:20220517T011911Z
UID:8782-1660262400-1660348799@www.scmea.net
SUMMARY:Deadline: Marching Band Festival/Championships
DESCRIPTION:
URL:https://www.scmea.net/event/deadline-marching-band-festival-championships/
CATEGORIES:Band,Deadline
END:VEVENT
BEGIN:VEVENT
DTSTART;VALUE=DATE:20220801
DTEND;VALUE=DATE:20220802
DTSTAMP:20260423T044232
CREATED:20220517T011815Z
LAST-MODIFIED:20220517T011925Z
UID:8780-1659312000-1659398399@www.scmea.net
SUMMARY:Deadline: SC Musician Fall Issue
DESCRIPTION:
URL:https://www.scmea.net/event/deadline-sc-musician-fall-issue/
CATEGORIES:Deadline,SC Musician
END:VEVENT
BEGIN:VEVENT
DTSTART;VALUE=DATE:20220801
DTEND;VALUE=DATE:20220802
DTSTAMP:20260423T044232
CREATED:20210614T025227Z
LAST-MODIFIED:20210614T025227Z
UID:8132-1659312000-1659398399@www.scmea.net
SUMMARY:Deadline: South Carolina Musician Fall Issue Submissions
DESCRIPTION:
URL:https://www.scmea.net/event/deadline-south-carolina-musician-fall-issue-submissions/
CATEGORIES:Deadline,SC Musician
END:VEVENT
BEGIN:VEVENT
DTSTART;VALUE=DATE:20220615
DTEND;VALUE=DATE:20220616
DTSTAMP:20260423T044232
CREATED:20210614T025155Z
LAST-MODIFIED:20220517T012023Z
UID:8130-1655251200-1655337599@www.scmea.net
SUMMARY:Deadline: Conference Sessions Applications Due
DESCRIPTION:
URL:https://www.scmea.net/event/deadline-conference-proposals-due/
CATEGORIES:Conference,Deadline
END:VEVENT
BEGIN:VEVENT
DTSTART;VALUE=DATE:20220601
DTEND;VALUE=DATE:20220602
DTSTAMP:20260423T044232
CREATED:20210614T025118Z
LAST-MODIFIED:20210614T025118Z
UID:8128-1654041600-1654127999@www.scmea.net
SUMMARY:Deadline: SCMEA Performance Application
DESCRIPTION:All Performing Groups for the 2023 Professional Development Conference – Submit to Appropriate Division
URL:https://www.scmea.net/event/deadline-scmea-performance-application/
CATEGORIES:Conference,Deadline
END:VEVENT
BEGIN:VEVENT
DTSTART;VALUE=DATE:20220406
DTEND;VALUE=DATE:20220407
DTSTAMP:20260423T044232
CREATED:20210614T023457Z
LAST-MODIFIED:20210614T023457Z
UID:8090-1649203200-1649289599@www.scmea.net
SUMMARY:Deadline: Collegiate Membership Applications
DESCRIPTION:
URL:https://www.scmea.net/event/deadline-collegiate-membership-applications/
CATEGORIES:Collegiate,Deadline
END:VEVENT
BEGIN:VEVENT
DTSTART;VALUE=DATE:20220301
DTEND;VALUE=DATE:20220302
DTSTAMP:20260423T044232
CREATED:20210613T192118Z
LAST-MODIFIED:20210613T192118Z
UID:8047-1646092800-1646179199@www.scmea.net
SUMMARY:Deadlines: Orchestra S&E\, SC Musician Spring Issue Submissions\, & Spring Piano Festival
DESCRIPTION:
URL:https://www.scmea.net/event/deadlines-orchestra-se-sc-musician-spring-issue-submissions-spring-piano-festival/
CATEGORIES:Deadline,Orchestra,Piano,SC Musician
END:VEVENT
BEGIN:VEVENT
DTSTART;VALUE=DATE:20220204
DTEND;VALUE=DATE:20220205
DTSTAMP:20260423T044232
CREATED:20210613T191243Z
LAST-MODIFIED:20210613T191243Z
UID:8027-1643932800-1644019199@www.scmea.net
SUMMARY:Deadlines: All-State Band Clinic & Winter Ensemble Championships
DESCRIPTION:
URL:https://www.scmea.net/event/deadlines-all-state-band-clinic-winter-ensemble-championships/
CATEGORIES:Band,Deadline
END:VEVENT
BEGIN:VEVENT
DTSTART;VALUE=DATE:20220201
DTEND;VALUE=DATE:20220202
DTSTAMP:20260423T044232
CREATED:20210613T190708Z
LAST-MODIFIED:20210613T190708Z
UID:8020-1643673600-1643759999@www.scmea.net
SUMMARY:Deadline: All-State Orchestra Registration
DESCRIPTION:
URL:https://www.scmea.net/event/deadline-all-state-orchestra-registration/
CATEGORIES:Deadline,Orchestra
END:VEVENT
BEGIN:VEVENT
DTSTART;VALUE=DATE:20220115
DTEND;VALUE=DATE:20220116
DTSTAMP:20260423T044232
CREATED:20210613T184847Z
LAST-MODIFIED:20210613T185742Z
UID:8003-1642204800-1642291199@www.scmea.net
SUMMARY:Deadline: Orchestra CPA Registration
DESCRIPTION:
URL:https://www.scmea.net/event/deadline-orchestra-cpa-registration/
CATEGORIES:Deadline,Orchestra
END:VEVENT
BEGIN:VEVENT
DTSTART;VALUE=DATE:20220114
DTEND;VALUE=DATE:20220115
DTSTAMP:20260423T044232
CREATED:20211203T184235Z
LAST-MODIFIED:20211203T184249Z
UID:8411-1642118400-1642204799@www.scmea.net
SUMMARY:Deadlines: CPA & JPA Registration
DESCRIPTION:
URL:https://www.scmea.net/event/deadlines-cpa-jpa-registration/
CATEGORIES:Band,Deadline
END:VEVENT
BEGIN:VEVENT
DTSTART;VALUE=DATE:20220107
DTEND;VALUE=DATE:20220108
DTSTAMP:20260423T044232
CREATED:20210613T184622Z
LAST-MODIFIED:20211203T184148Z
UID:7996-1641513600-1641599999@www.scmea.net
SUMMARY:Deadlines: CPA Supplemental List
DESCRIPTION:
URL:https://www.scmea.net/event/deadline-jpa-cpa-supplemental-list/
CATEGORIES:Band,Deadline
END:VEVENT
BEGIN:VEVENT
DTSTART;VALUE=DATE:20211203
DTEND;VALUE=DATE:20211204
DTSTAMP:20260423T044232
CREATED:20210613T184521Z
LAST-MODIFIED:20210613T185400Z
UID:7994-1638489600-1638575999@www.scmea.net
SUMMARY:Deadline: SC Elementary Honors Choir Registration
DESCRIPTION:
URL:https://www.scmea.net/event/deadline-sc-elementary-honors-choir-registration/
CATEGORIES:Choral,Deadline,Elementary
END:VEVENT
END:VCALENDAR