BEGIN:VCALENDAR
VERSION:2.0
PRODID:-//South Carolina Music Educators Association - ECPv6.15.18//NONSGML v1.0//EN
CALSCALE:GREGORIAN
METHOD:PUBLISH
X-WR-CALNAME:South Carolina Music Educators Association
X-ORIGINAL-URL:https://www.scmea.net
X-WR-CALDESC:Events for South Carolina Music Educators Association
REFRESH-INTERVAL;VALUE=DURATION:PT1H
X-Robots-Tag:noindex
X-PUBLISHED-TTL:PT1H
BEGIN:VTIMEZONE
TZID:America/New_York
BEGIN:DAYLIGHT
TZOFFSETFROM:-0500
TZOFFSETTO:-0400
TZNAME:EDT
DTSTART:20220313T070000
END:DAYLIGHT
BEGIN:STANDARD
TZOFFSETFROM:-0400
TZOFFSETTO:-0500
TZNAME:EST
DTSTART:20221106T060000
END:STANDARD
BEGIN:DAYLIGHT
TZOFFSETFROM:-0500
TZOFFSETTO:-0400
TZNAME:EDT
DTSTART:20230312T070000
END:DAYLIGHT
BEGIN:STANDARD
TZOFFSETFROM:-0400
TZOFFSETTO:-0500
TZNAME:EST
DTSTART:20231105T060000
END:STANDARD
BEGIN:DAYLIGHT
TZOFFSETFROM:-0500
TZOFFSETTO:-0400
TZNAME:EDT
DTSTART:20240310T070000
END:DAYLIGHT
BEGIN:STANDARD
TZOFFSETFROM:-0400
TZOFFSETTO:-0500
TZNAME:EST
DTSTART:20241103T060000
END:STANDARD
BEGIN:DAYLIGHT
TZOFFSETFROM:-0500
TZOFFSETTO:-0400
TZNAME:EDT
DTSTART:20250309T070000
END:DAYLIGHT
BEGIN:STANDARD
TZOFFSETFROM:-0400
TZOFFSETTO:-0500
TZNAME:EST
DTSTART:20251102T060000
END:STANDARD
END:VTIMEZONE
BEGIN:VEVENT
DTSTART;VALUE=DATE:20230315
DTEND;VALUE=DATE:20230316
DTSTAMP:20260421T213524
CREATED:20220522T130053Z
LAST-MODIFIED:20220826T161604Z
UID:8933-1678838400-1678924799@www.scmea.net
SUMMARY:Deadline: Orchestra Solo & Ensemble Registration
DESCRIPTION:
URL:https://www.scmea.net/event/orchestra-solo-ensemble-registration-deadline/
CATEGORIES:Deadline,Orchestra
END:VEVENT
BEGIN:VEVENT
DTSTART;VALUE=DATE:20230331
DTEND;VALUE=DATE:20230401
DTSTAMP:20260421T213524
CREATED:20220522T125854Z
LAST-MODIFIED:20230301T202706Z
UID:8927-1680220800-1680307199@www.scmea.net
SUMMARY:Spring Piano Festival Registration Deadline
DESCRIPTION:Deadline extended thru 3/31!
URL:https://www.scmea.net/event/spring-piano-festival-registration-deadline/
CATEGORIES:Deadline,Piano
END:VEVENT
BEGIN:VEVENT
DTSTART;VALUE=DATE:20230403
DTEND;VALUE=DATE:20230404
DTSTAMP:20260421T213524
CREATED:20220522T131045Z
LAST-MODIFIED:20220522T131045Z
UID:8955-1680480000-1680566399@www.scmea.net
SUMMARY:Orchestra OPA Submission Deadline
DESCRIPTION:
URL:https://www.scmea.net/event/orchestra-opa-submission-deadline/
CATEGORIES:Deadline,Orchestra
END:VEVENT
BEGIN:VEVENT
DTSTART;VALUE=DATE:20230405
DTEND;VALUE=DATE:20230406
DTSTAMP:20260421T213524
CREATED:20220522T131126Z
LAST-MODIFIED:20220522T131126Z
UID:8957-1680652800-1680739199@www.scmea.net
SUMMARY:Collegiate Membership Officer Applications Due
DESCRIPTION:
URL:https://www.scmea.net/event/collegiate-membership-officer-applications-due/
CATEGORIES:Collegiate,Deadline
END:VEVENT
BEGIN:VEVENT
DTSTART;VALUE=DATE:20230508
DTEND;VALUE=DATE:20230509
DTSTAMP:20260421T213525
CREATED:20220522T131828Z
LAST-MODIFIED:20220522T131828Z
UID:8977-1683504000-1683590399@www.scmea.net
SUMMARY:Orchestra OPA Final Documentation Due
DESCRIPTION:
URL:https://www.scmea.net/event/orchestra-opa-final-documentation-due/
CATEGORIES:Deadline,Orchestra
END:VEVENT
BEGIN:VEVENT
DTSTART;VALUE=DATE:20230601
DTEND;VALUE=DATE:20230602
DTSTAMP:20260421T213525
CREATED:20220522T132058Z
LAST-MODIFIED:20220522T132058Z
UID:8985-1685577600-1685663999@www.scmea.net
SUMMARY:Performance Application Deadline for SCMEA 2024
DESCRIPTION:
URL:https://www.scmea.net/event/performance-application-deadline-for-scmea-2024/
CATEGORIES:Deadline
END:VEVENT
BEGIN:VEVENT
DTSTART;VALUE=DATE:20230801
DTEND;VALUE=DATE:20230802
DTSTAMP:20260421T213525
CREATED:20230707T184306Z
LAST-MODIFIED:20230707T184306Z
UID:9605-1690848000-1690934399@www.scmea.net
SUMMARY:Deadline: SC Musician Fall Issue
DESCRIPTION:
URL:https://www.scmea.net/event/deadline-sc-musician-fall-issue-2/
CATEGORIES:Deadline,SC Musician
END:VEVENT
BEGIN:VEVENT
DTSTART;VALUE=DATE:20230811
DTEND;VALUE=DATE:20230812
DTSTAMP:20260421T213525
CREATED:20230707T184343Z
LAST-MODIFIED:20230707T184343Z
UID:9607-1691712000-1691798399@www.scmea.net
SUMMARY:Deadline: Marching Band Championship Registration
DESCRIPTION:
URL:https://www.scmea.net/event/deadline-marching-band-championship-registration/
CATEGORIES:Band,Deadline
END:VEVENT
BEGIN:VEVENT
DTSTART;VALUE=DATE:20230825
DTEND;VALUE=DATE:20230826
DTSTAMP:20260421T213525
CREATED:20230707T184607Z
LAST-MODIFIED:20230707T184607Z
UID:9613-1692921600-1693007999@www.scmea.net
SUMMARY:Deadline: Winter Ensemble Host Applications
DESCRIPTION:
URL:https://www.scmea.net/event/deadline-winter-ensemble-host-applications/
CATEGORIES:Band,Deadline
END:VEVENT
BEGIN:VEVENT
DTSTART;VALUE=DATE:20230829
DTEND;VALUE=DATE:20230830
DTSTAMP:20260421T213525
CREATED:20230707T185834Z
LAST-MODIFIED:20230707T185834Z
UID:9635-1693267200-1693353599@www.scmea.net
SUMMARY:Deadline - All-State Chorus Auditions
DESCRIPTION:
URL:https://www.scmea.net/event/deadline-all-state-chorus-auditions/
CATEGORIES:Choral,Deadline
END:VEVENT
BEGIN:VEVENT
DTSTART;VALUE=DATE:20230915
DTEND;VALUE=DATE:20230916
DTSTAMP:20260421T213525
CREATED:20230707T185705Z
LAST-MODIFIED:20230707T185705Z
UID:9631-1694736000-1694822399@www.scmea.net
SUMMARY:Deadline - Orchestra Region Auditions
DESCRIPTION:
URL:https://www.scmea.net/event/deadline-orchestra-region-auditions/
CATEGORIES:Deadline,Orchestra
END:VEVENT
BEGIN:VEVENT
DTSTART;VALUE=DATE:20230922
DTEND;VALUE=DATE:20230923
DTSTAMP:20260421T213525
CREATED:20230707T185745Z
LAST-MODIFIED:20230707T185758Z
UID:9633-1695340800-1695427199@www.scmea.net
SUMMARY:Deadline - Choral Region Choir Registration
DESCRIPTION:
URL:https://www.scmea.net/event/deadline-choral-region-choir-registration/
CATEGORIES:Choral,Deadline
END:VEVENT
BEGIN:VEVENT
DTSTART;VALUE=DATE:20231001
DTEND;VALUE=DATE:20231002
DTSTAMP:20260421T213525
CREATED:20230707T185904Z
LAST-MODIFIED:20230707T185904Z
UID:9637-1696118400-1696204799@www.scmea.net
SUMMARY:Deadline - SC Musician Winter Issue
DESCRIPTION:
URL:https://www.scmea.net/event/deadline-sc-musician-winter-issue/
CATEGORIES:Deadline,SC Musician
END:VEVENT
BEGIN:VEVENT
DTSTART;VALUE=DATE:20231006
DTEND;VALUE=DATE:20231007
DTSTAMP:20260421T213525
CREATED:20230707T185940Z
LAST-MODIFIED:20230707T185940Z
UID:9639-1696550400-1696636799@www.scmea.net
SUMMARY:Deadline - Elementary Honor Choir Audition Registration
DESCRIPTION:
URL:https://www.scmea.net/event/deadline-elementary-honor-choir-audition-registration/
CATEGORIES:Deadline,Elementary
END:VEVENT
BEGIN:VEVENT
DTSTART;VALUE=DATE:20231015
DTEND;VALUE=DATE:20231016
DTSTAMP:20260421T213525
CREATED:20230707T191536Z
LAST-MODIFIED:20230707T191536Z
UID:9643-1697328000-1697414399@www.scmea.net
SUMMARY:Deadline - Orchestra CPA Registration
DESCRIPTION:
URL:https://www.scmea.net/event/deadline-orchestra-cpa-registration-3/
CATEGORIES:Deadline,Orchestra
END:VEVENT
BEGIN:VEVENT
DTSTART;VALUE=DATE:20231016
DTEND;VALUE=DATE:20231017
DTSTAMP:20260421T213525
CREATED:20230707T191607Z
LAST-MODIFIED:20230707T191607Z
UID:9645-1697414400-1697500799@www.scmea.net
SUMMARY:Deadline - Fall Piano Festival
DESCRIPTION:
URL:https://www.scmea.net/event/deadline-fall-piano-festival/
CATEGORIES:Deadline,Piano
END:VEVENT
BEGIN:VEVENT
DTSTART;VALUE=DATE:20231027
DTEND;VALUE=DATE:20231028
DTSTAMP:20260421T213525
CREATED:20230707T192252Z
LAST-MODIFIED:20230707T192252Z
UID:9654-1698364800-1698451199@www.scmea.net
SUMMARY:Deadline - All-State Guitar Registration
DESCRIPTION:
URL:https://www.scmea.net/event/deadline-all-state-guitar-registration/
CATEGORIES:Deadline,Guitar
END:VEVENT
BEGIN:VEVENT
DTSTART;VALUE=DATE:20231101
DTEND;VALUE=DATE:20231102
DTSTAMP:20260421T213525
CREATED:20230707T192735Z
LAST-MODIFIED:20230707T192735Z
UID:9661-1698796800-1698883199@www.scmea.net
SUMMARY:Deadline - Orchestra CPA Composition Competition
DESCRIPTION:
URL:https://www.scmea.net/event/deadline-orchestra-cpa-composition-competition-2/
CATEGORIES:Deadline,Orchestra
END:VEVENT
BEGIN:VEVENT
DTSTART;VALUE=DATE:20231110
DTEND;VALUE=DATE:20231111
DTSTAMP:20260421T213525
CREATED:20230707T193334Z
LAST-MODIFIED:20230707T193334Z
UID:9677-1699574400-1699660799@www.scmea.net
SUMMARY:Deadline - SCMEA Awards
DESCRIPTION:
URL:https://www.scmea.net/event/deadline-scmea-awards-2/
CATEGORIES:Awards,Deadline
END:VEVENT
BEGIN:VEVENT
DTSTART;VALUE=DATE:20231110
DTEND;VALUE=DATE:20231111
DTSTAMP:20260421T213525
CREATED:20230707T193413Z
LAST-MODIFIED:20230707T193413Z
UID:9679-1699574400-1699660799@www.scmea.net
SUMMARY:Deadline - Region Band & All-State Jazz Audition Registration
DESCRIPTION:
URL:https://www.scmea.net/event/deadline-region-band-all-state-jazz-audition-registration/
CATEGORIES:Band,Deadline
END:VEVENT
BEGIN:VEVENT
DTSTART;VALUE=DATE:20231201
DTEND;VALUE=DATE:20231202
DTSTAMP:20260421T213525
CREATED:20230707T200959Z
LAST-MODIFIED:20230712T173753Z
UID:9693-1701388800-1701475199@www.scmea.net
SUMMARY:Deadline - SC Musician Conference Edition
DESCRIPTION:
URL:https://www.scmea.net/event/deadline-sc-musician-conference-edition/
CATEGORIES:Deadline,SC Musician
END:VEVENT
BEGIN:VEVENT
DTSTART;VALUE=DATE:20231201
DTEND;VALUE=DATE:20231202
DTSTAMP:20260421T213525
CREATED:20230707T201149Z
LAST-MODIFIED:20230712T173534Z
UID:9695-1701388800-1701475199@www.scmea.net
SUMMARY:Deadline - Master Recital & Jazz Honor Combo Submissions
DESCRIPTION:
URL:https://www.scmea.net/event/deadline-master-recital-jazz-honor-combo-submissions/
CATEGORIES:Band,Deadline
END:VEVENT
BEGIN:VEVENT
DTSTART;VALUE=DATE:20231206
DTEND;VALUE=DATE:20231207
DTSTAMP:20260421T213525
CREATED:20230707T222126Z
LAST-MODIFIED:20230707T222126Z
UID:9702-1701820800-1701907199@www.scmea.net
SUMMARY:Deadline - Elementary Honor Choir Registration
DESCRIPTION:
URL:https://www.scmea.net/event/deadline-elementary-honor-choir-registration/
CATEGORIES:Deadline,Elementary
END:VEVENT
BEGIN:VEVENT
DTSTART;VALUE=DATE:20240112
DTEND;VALUE=DATE:20240113
DTSTAMP:20260421T213525
CREATED:20230707T222127Z
LAST-MODIFIED:20230707T222127Z
UID:9704-1705017600-1705103999@www.scmea.net
SUMMARY:Deadline - Band HOF\, DSA\, PON
DESCRIPTION:
URL:https://www.scmea.net/event/deadline-band-hof-dsa-pon/
CATEGORIES:Band,Deadline
END:VEVENT
BEGIN:VEVENT
DTSTART;VALUE=DATE:20240115
DTEND;VALUE=DATE:20240116
DTSTAMP:20260421T213525
CREATED:20230707T222128Z
LAST-MODIFIED:20230707T222128Z
UID:9706-1705276800-1705363199@www.scmea.net
SUMMARY:Deadline - Orchestra Division CPA Registration
DESCRIPTION:
URL:https://www.scmea.net/event/deadline-orchestra-division-cpa-registration/
CATEGORIES:Deadline,Orchestra
END:VEVENT
BEGIN:VEVENT
DTSTART;VALUE=DATE:20240119
DTEND;VALUE=DATE:20240120
DTSTAMP:20260421T213525
CREATED:20230707T222127Z
LAST-MODIFIED:20230707T222127Z
UID:9705-1705622400-1705708799@www.scmea.net
SUMMARY:Deadline - JPA\, Band CPA\, CPA Supplmental List
DESCRIPTION:
URL:https://www.scmea.net/event/deadline-jpa-band-cpa-cpa-supplmental-list/
CATEGORIES:Band,Deadline
END:VEVENT
BEGIN:VEVENT
DTSTART;VALUE=DATE:20240127
DTEND;VALUE=DATE:20240128
DTSTAMP:20260421T213525
CREATED:20230707T222129Z
LAST-MODIFIED:20230707T222129Z
UID:9709-1706313600-1706399999@www.scmea.net
SUMMARY:Deadline - Choral Solo & Ensemble Registration
DESCRIPTION:
URL:https://www.scmea.net/event/deadline-choral-solo-ensemble-registration/
CATEGORIES:Choral,Deadline
END:VEVENT
BEGIN:VEVENT
DTSTART;VALUE=DATE:20240201
DTEND;VALUE=DATE:20240202
DTSTAMP:20260421T213525
CREATED:20230707T222130Z
LAST-MODIFIED:20230707T222130Z
UID:9710-1706745600-1706831999@www.scmea.net
SUMMARY:Deadline - All-State Orchestra Clinic Registration
DESCRIPTION:
URL:https://www.scmea.net/event/deadline-all-state-orchestra-clinic-registration/
CATEGORIES:Deadline,Orchestra
END:VEVENT
BEGIN:VEVENT
DTSTART;VALUE=DATE:20240206
DTEND;VALUE=DATE:20240207
DTSTAMP:20260421T213525
CREATED:20230707T222145Z
LAST-MODIFIED:20240126T142312Z
UID:9713-1707177600-1707263999@www.scmea.net
SUMMARY:Deadline - All-State/Region Band Clinics
DESCRIPTION:
URL:https://www.scmea.net/event/deadline-all-state-region-band-clinics-winter-ensemble-championships/
CATEGORIES:Band,Deadline
END:VEVENT
BEGIN:VEVENT
DTSTART;VALUE=DATE:20240301
DTEND;VALUE=DATE:20240302
DTSTAMP:20260421T213525
CREATED:20230707T222230Z
LAST-MODIFIED:20240207T155909Z
UID:9729-1709251200-1709337599@www.scmea.net
SUMMARY:Deadline - Orchestra S&E Registration Deadline
DESCRIPTION:
URL:https://www.scmea.net/event/deadline-orchestra-se-registration-deadline/
CATEGORIES:Deadline,Orchestra
END:VEVENT
END:VCALENDAR