BEGIN:VCALENDAR
VERSION:2.0
PRODID:-//South Carolina Music Educators Association - ECPv6.15.18//NONSGML v1.0//EN
CALSCALE:GREGORIAN
METHOD:PUBLISH
X-ORIGINAL-URL:https://www.scmea.net
X-WR-CALDESC:Events for South Carolina Music Educators Association
REFRESH-INTERVAL;VALUE=DURATION:PT1H
X-Robots-Tag:noindex
X-PUBLISHED-TTL:PT1H
BEGIN:VTIMEZONE
TZID:America/New_York
BEGIN:DAYLIGHT
TZOFFSETFROM:-0500
TZOFFSETTO:-0400
TZNAME:EDT
DTSTART:20230312T070000
END:DAYLIGHT
BEGIN:STANDARD
TZOFFSETFROM:-0400
TZOFFSETTO:-0500
TZNAME:EST
DTSTART:20231105T060000
END:STANDARD
BEGIN:DAYLIGHT
TZOFFSETFROM:-0500
TZOFFSETTO:-0400
TZNAME:EDT
DTSTART:20240310T070000
END:DAYLIGHT
BEGIN:STANDARD
TZOFFSETFROM:-0400
TZOFFSETTO:-0500
TZNAME:EST
DTSTART:20241103T060000
END:STANDARD
BEGIN:DAYLIGHT
TZOFFSETFROM:-0500
TZOFFSETTO:-0400
TZNAME:EDT
DTSTART:20250309T070000
END:DAYLIGHT
BEGIN:STANDARD
TZOFFSETFROM:-0400
TZOFFSETTO:-0500
TZNAME:EST
DTSTART:20251102T060000
END:STANDARD
END:VTIMEZONE
BEGIN:VEVENT
DTSTART;VALUE=DATE:20240902
DTEND;VALUE=DATE:20240903
DTSTAMP:20260425T144451
CREATED:20240524T195511Z
LAST-MODIFIED:20240524T195604Z
UID:10489-1725235200-1725321599@www.scmea.net
SUMMARY:Deadline: Choral Arts Seminar Registration
DESCRIPTION:
URL:https://www.scmea.net/event/deadline-choral-arts-seminar-registration/
CATEGORIES:Choral,Deadline
ORGANIZER;CN="Maurice Burgess":MAILTO:maurice.burgess@choraldivision.org
END:VEVENT
BEGIN:VEVENT
DTSTART;TZID=America/New_York:20240906T173000
DTEND;TZID=America/New_York:20240907T140000
DTSTAMP:20260425T144451
CREATED:20240524T195729Z
LAST-MODIFIED:20240524T195729Z
UID:10493-1725643800-1725717600@www.scmea.net
SUMMARY:Choral Arts Workshop & Fall Meeting
DESCRIPTION:
URL:https://www.scmea.net/event/choral-arts-workshop-fall-meeting/
LOCATION:University of South Carolina\, 813 Assembly St.\, Columbia\, SC\, 29208\, United States
CATEGORIES:Choral
END:VEVENT
BEGIN:VEVENT
DTSTART;VALUE=DATE:20240907
DTEND;VALUE=DATE:20240908
DTSTAMP:20260425T144451
CREATED:20240524T200209Z
LAST-MODIFIED:20240524T200209Z
UID:10502-1725667200-1725753599@www.scmea.net
SUMMARY:Orchestra Division Meetings
DESCRIPTION:New Teacher Orientation\, Reading Session\, Board Meeting\, Division Meeting\, and Committee Meetings
URL:https://www.scmea.net/event/orchestra-division-meetings-2/
LOCATION:Spring Valley High School
CATEGORIES:Orchestra
ORGANIZER;CN="Allison Key":MAILTO:allison.key@scmea.net
END:VEVENT
BEGIN:VEVENT
DTSTART;TZID=America/New_York:20240907T083000
DTEND;TZID=America/New_York:20240907T120000
DTSTAMP:20260425T144451
CREATED:20240524T195951Z
LAST-MODIFIED:20240524T195951Z
UID:10497-1725697800-1725710400@www.scmea.net
SUMMARY:SCBDA Fall Meeting
DESCRIPTION:
URL:https://www.scmea.net/event/scbda-fall-meeting-2/
LOCATION:River Bluff High School\, 320 Corely Mill Rd.\, Lexington\, SC\, 29072\, United States
CATEGORIES:Band
ORGANIZER;CN="Leslie Gilreath":MAILTO:lgilreath@bandlink.org
END:VEVENT
BEGIN:VEVENT
DTSTART;TZID=America/New_York:20240907T090000
DTEND;TZID=America/New_York:20240907T110000
DTSTAMP:20260425T144451
CREATED:20240524T200042Z
LAST-MODIFIED:20240524T200042Z
UID:10499-1725699600-1725706800@www.scmea.net
SUMMARY:Piano Division Business Meeting
DESCRIPTION:via Zoom
URL:https://www.scmea.net/event/piano-division-business-meeting/
LOCATION:via Zoom
CATEGORIES:Piano
ORGANIZER;CN="Andrea Quinn":MAILTO:andrea.quinn@scmea.net
END:VEVENT
BEGIN:VEVENT
DTSTART;TZID=America/New_York:20240914T090000
DTEND;TZID=America/New_York:20240914T130000
DTSTAMP:20260425T144451
CREATED:20240524T195901Z
LAST-MODIFIED:20240807T133451Z
UID:10495-1726304400-1726318800@www.scmea.net
SUMMARY:Elementary Fall Workshop & Business Meeting
DESCRIPTION:
URL:https://www.scmea.net/event/elementary-fall-workshop-business-meeting/
LOCATION:Camden Elementary School\, 416 Laurens St\, Camden\, SC\, 29020\, United States
CATEGORIES:Elementary
ORGANIZER;CN="Seth Phillips":MAILTO:seth.phillips@scmea.net
END:VEVENT
BEGIN:VEVENT
DTSTART;TZID=America/New_York:20240914T100000
DTEND;TZID=America/New_York:20240914T110000
DTSTAMP:20260425T144451
CREATED:20240524T200349Z
LAST-MODIFIED:20240524T200349Z
UID:10508-1726308000-1726311600@www.scmea.net
SUMMARY:Higher Ed Division Meeting
DESCRIPTION:Virtual Meeting
URL:https://www.scmea.net/event/higher-ed-division-meeting-4/
CATEGORIES:Higher Ed
ORGANIZER;CN="Rosetta Dingle":MAILTO:rosetta.dingle@scmea.net
END:VEVENT
BEGIN:VEVENT
DTSTART;VALUE=DATE:20240915
DTEND;VALUE=DATE:20240916
DTSTAMP:20260425T144451
CREATED:20240524T200435Z
LAST-MODIFIED:20240524T200435Z
UID:10510-1726358400-1726444799@www.scmea.net
SUMMARY:Deadline: Region Orchestra Audition Registration
DESCRIPTION:
URL:https://www.scmea.net/event/deadline-region-orchestra-audition-registration/
CATEGORIES:Deadline,Orchestra
END:VEVENT
BEGIN:VEVENT
DTSTART;VALUE=DATE:20240921
DTEND;VALUE=DATE:20240922
DTSTAMP:20260425T144451
CREATED:20240524T200530Z
LAST-MODIFIED:20240524T200530Z
UID:10512-1726876800-1726963199@www.scmea.net
SUMMARY:Region 5 Orchestra Auditions
DESCRIPTION:
URL:https://www.scmea.net/event/region-5-orchestra-auditions-2/
LOCATION:Sumter High School\, 2580 McCrays Mill Rd\, Sumter\, SC\, 29154\, United States
CATEGORIES:Orchestra
ORGANIZER;CN="Erik Hines":MAILTO:erik.hines@scmea.net
END:VEVENT
BEGIN:VEVENT
DTSTART;VALUE=DATE:20240927
DTEND;VALUE=DATE:20240928
DTSTAMP:20260425T144451
CREATED:20240524T195549Z
LAST-MODIFIED:20240524T195549Z
UID:10491-1727395200-1727481599@www.scmea.net
SUMMARY:Deadline: Region Choir Registration
DESCRIPTION:
URL:https://www.scmea.net/event/deadline-region-choir-registration/
CATEGORIES:Choral,Deadline
ORGANIZER;CN="Maurice Burgess":MAILTO:maurice.burgess@choraldivision.org
END:VEVENT
BEGIN:VEVENT
DTSTART;VALUE=DATE:20240928
DTEND;VALUE=DATE:20240929
DTSTAMP:20260425T144451
CREATED:20240524T200621Z
LAST-MODIFIED:20240909T180300Z
UID:10514-1727481600-1727567999@www.scmea.net
SUMMARY:Region 2 Orchestra Auditions
DESCRIPTION:
URL:https://www.scmea.net/event/region-2-orchestra-auditions/
LOCATION:League Academy
CATEGORIES:Orchestra
END:VEVENT
BEGIN:VEVENT
DTSTART;VALUE=DATE:20240928
DTEND;VALUE=DATE:20240929
DTSTAMP:20260425T144451
CREATED:20240524T200714Z
LAST-MODIFIED:20240524T200714Z
UID:10517-1727481600-1727567999@www.scmea.net
SUMMARY:Region 4 Orchestra Auditions
DESCRIPTION:Virtual Submission
URL:https://www.scmea.net/event/region-4-orchestra-auditions/
CATEGORIES:Orchestra
END:VEVENT
BEGIN:VEVENT
DTSTART;VALUE=DATE:20240928
DTEND;VALUE=DATE:20240929
DTSTAMP:20260425T144451
CREATED:20240524T200945Z
LAST-MODIFIED:20241002T205436Z
UID:10522-1727481600-1727567999@www.scmea.net
SUMMARY:Region 1 Orchestra Auditions
DESCRIPTION:
URL:https://www.scmea.net/event/region-1-orchestra-auditions/
LOCATION:Byrnes Freshman Academy
CATEGORIES:Orchestra
ORGANIZER;CN="Susan Wines":MAILTO:susan.wines@scmea.net
END:VEVENT
END:VCALENDAR