BEGIN:VCALENDAR
VERSION:2.0
PRODID:-//South Carolina Music Educators Association - ECPv6.15.18//NONSGML v1.0//EN
CALSCALE:GREGORIAN
METHOD:PUBLISH
X-ORIGINAL-URL:https://www.scmea.net
X-WR-CALDESC:Events for South Carolina Music Educators Association
REFRESH-INTERVAL;VALUE=DURATION:PT1H
X-Robots-Tag:noindex
X-PUBLISHED-TTL:PT1H
BEGIN:VTIMEZONE
TZID:America/New_York
BEGIN:DAYLIGHT
TZOFFSETFROM:-0500
TZOFFSETTO:-0400
TZNAME:EDT
DTSTART:20230312T070000
END:DAYLIGHT
BEGIN:STANDARD
TZOFFSETFROM:-0400
TZOFFSETTO:-0500
TZNAME:EST
DTSTART:20231105T060000
END:STANDARD
BEGIN:DAYLIGHT
TZOFFSETFROM:-0500
TZOFFSETTO:-0400
TZNAME:EDT
DTSTART:20240310T070000
END:DAYLIGHT
BEGIN:STANDARD
TZOFFSETFROM:-0400
TZOFFSETTO:-0500
TZNAME:EST
DTSTART:20241103T060000
END:STANDARD
BEGIN:DAYLIGHT
TZOFFSETFROM:-0500
TZOFFSETTO:-0400
TZNAME:EDT
DTSTART:20250309T070000
END:DAYLIGHT
BEGIN:STANDARD
TZOFFSETFROM:-0400
TZOFFSETTO:-0500
TZNAME:EST
DTSTART:20251102T060000
END:STANDARD
END:VTIMEZONE
BEGIN:VEVENT
DTSTART;VALUE=DATE:20241004
DTEND;VALUE=DATE:20241005
DTSTAMP:20260425T120643
CREATED:20240524T200829Z
LAST-MODIFIED:20240524T200829Z
UID:10519-1728000000-1728086399@www.scmea.net
SUMMARY:Deadline: All-State Choral Audition Registration
DESCRIPTION:
URL:https://www.scmea.net/event/deadline-all-state-choral-audition-registration/
CATEGORIES:Choral,Deadline
ORGANIZER;CN="Lizzi Elliott":MAILTO:lizzi.elliott@choraldivision.org
END:VEVENT
BEGIN:VEVENT
DTSTART;VALUE=DATE:20241005
DTEND;VALUE=DATE:20241006
DTSTAMP:20260425T120643
CREATED:20240524T201037Z
LAST-MODIFIED:20240524T201055Z
UID:10526-1728086400-1728172799@www.scmea.net
SUMMARY:Region 3 Orchestra Auditions
DESCRIPTION:
URL:https://www.scmea.net/event/region-3-orchestra-auditions/
LOCATION:E.L. Wright Middle School
CATEGORIES:Orchestra
END:VEVENT
BEGIN:VEVENT
DTSTART;VALUE=DATE:20241015
DTEND;VALUE=DATE:20241016
DTSTAMP:20260425T120643
CREATED:20240524T201918Z
LAST-MODIFIED:20240524T201918Z
UID:10546-1728950400-1729036799@www.scmea.net
SUMMARY:Deadline: Region Orchestra Clinic Registration
DESCRIPTION:
URL:https://www.scmea.net/event/deadline-region-orchestra-clinic-registration/
CATEGORIES:Deadline
END:VEVENT
BEGIN:VEVENT
DTSTART;VALUE=DATE:20241018
DTEND;VALUE=DATE:20241019
DTSTAMP:20260425T120643
CREATED:20240524T200300Z
LAST-MODIFIED:20240929T010208Z
UID:10506-1729209600-1729295999@www.scmea.net
SUMMARY:Deadline: SCEHC Audition Submissions Due
DESCRIPTION:
URL:https://www.scmea.net/event/deadline-scehc-audition-submissions-due/
CATEGORIES:Deadline,Elementary
ORGANIZER;CN="Denise Thomas":MAILTO:denise.thomas@scmea.net
END:VEVENT
BEGIN:VEVENT
DTSTART;VALUE=DATE:20241019
DTEND;VALUE=DATE:20241020
DTSTAMP:20260425T120643
CREATED:20240524T201313Z
LAST-MODIFIED:20240524T201313Z
UID:10530-1729296000-1729382399@www.scmea.net
SUMMARY:Marching Band Championships
DESCRIPTION:Class 1A\, 2A\, 3A\, and Traditional High Step Marching Band Championships. See www.bandlink.org for more information.
URL:https://www.scmea.net/event/marching-band-championships/
CATEGORIES:Band
ORGANIZER;CN="Chris Moss":MAILTO:cmoss@bandlink.org
END:VEVENT
BEGIN:VEVENT
DTSTART;VALUE=DATE:20241019
DTEND;VALUE=DATE:20241020
DTSTAMP:20260425T120643
CREATED:20240524T201644Z
LAST-MODIFIED:20240524T201644Z
UID:10536-1729296000-1729382399@www.scmea.net
SUMMARY:Deadline: Fall Piano Festival Registration
DESCRIPTION:
URL:https://www.scmea.net/event/deadline-fall-piano-festival-registration-3/
CATEGORIES:Deadline,Piano
ORGANIZER;CN="Krissy Peters":MAILTO:krissy.peters@scmea.net
END:VEVENT
BEGIN:VEVENT
DTSTART;VALUE=DATE:20241022
DTEND;VALUE=DATE:20241023
DTSTAMP:20260425T120643
CREATED:20240524T201730Z
LAST-MODIFIED:20240524T201730Z
UID:10539-1729555200-1729641599@www.scmea.net
SUMMARY:Region Choir
DESCRIPTION:
URL:https://www.scmea.net/event/region-choir/
CATEGORIES:Choral
END:VEVENT
BEGIN:VEVENT
DTSTART;VALUE=DATE:20241025
DTEND;VALUE=DATE:20241026
DTSTAMP:20260425T120643
CREATED:20240524T201835Z
LAST-MODIFIED:20240524T201835Z
UID:10542-1729814400-1729900799@www.scmea.net
SUMMARY:SSA/TTB Clinic - Midlands
DESCRIPTION:
URL:https://www.scmea.net/event/ssa-ttb-clinic-midlands/
LOCATION:Lugoff First Baptist Church
CATEGORIES:Choral
END:VEVENT
BEGIN:VEVENT
DTSTART;VALUE=DATE:20241026
DTEND;VALUE=DATE:20241027
DTSTAMP:20260425T120643
CREATED:20240524T201507Z
LAST-MODIFIED:20240524T201507Z
UID:10532-1729900800-1729987199@www.scmea.net
SUMMARY:Marching Band Championships
DESCRIPTION:Class 4A and Class 5A Marching Band Championships. See www.bandlink.org for more information.
URL:https://www.scmea.net/event/marching-band-championships-2/
CATEGORIES:Band
ORGANIZER;CN="Chris Moss":MAILTO:cmoss@bandlink.org
END:VEVENT
END:VCALENDAR